BEGIN:VCALENDAR
VERSION:2.0
PRODID:-//Tukios.com/
BEGIN:VEVENT
UID:b136c8d4-3053-41cf-9880-8fa7efbd3846@www.brucethartfuneralhome.com
DTSTAMP:20260420T215121Z
DTSTART:20260424T220000Z
DTEND:20260425T000000Z
SUMMARY:Visitation
DESCRIPTION:
URL:https://www.brucethartfuneralhome.com/obituaries/john-wabby
LOCATION:St. Clare of Assisi Roman Catholic Church 250 East Hancock 
	Street  Saint Clair PA 17970
GEO:40.7214748;-76.1891963
END:VEVENT
END:VCALENDAR