BEGIN:VCALENDAR
VERSION:2.0
PRODID:-//Tukios.com/
BEGIN:VEVENT
UID:b6244c3f-511a-47ae-a5ed-fa8926e2d8e9@www.brucethartfuneralhome.com
DTSTAMP:20260420T214826Z
DTSTART:20260425T133000Z
DTEND:20260425T143000Z
SUMMARY:Visitation
DESCRIPTION:
URL:https://www.brucethartfuneralhome.com/obituaries/john-wabby
LOCATION:St. Clare of Assisi Roman Catholic Church 250 East Hancock 
	Street  Saint Clair PA 17970
GEO:40.7214748;-76.1891963
END:VEVENT
END:VCALENDAR