BEGIN:VCALENDAR
VERSION:2.0
PRODID:-//Tukios.com/
BEGIN:VEVENT
UID:fb5c1653-87aa-4e89-b426-8d77fc826491@www.brucethartfuneralhome.com
DTSTAMP:20260420T214826Z
DTSTART:20260425T143000Z
DTEND:20260425T153000Z
SUMMARY:Mass
DESCRIPTION:
URL:https://www.brucethartfuneralhome.com/obituaries/john-wabby
LOCATION:St. Clare of Assisi Roman Catholic Church 250 East Hancock 
	Street  Saint Clair PA 17970
GEO:40.7214748;-76.1891963
END:VEVENT
END:VCALENDAR